BEGIN:VCALENDAR
VERSION:2.0
PRODID:-//RIGHTHERE//CALENDARIZE IT V3.2//EN
BEGIN:VTIMEZONE
TZID:Europe/Paris
X-MICROSOFT-CDO-TZID:3
BEGIN:STANDARD
DTSTART:20251026T010000
TZOFFSETFROM:+0200
TZOFFSETTO:+0100
TZNAME:CET
END:STANDARD
BEGIN:DAYLIGHT
DTSTART:20260329T010000
TZOFFSETFROM:+0100
TZOFFSETTO:+0200
TZNAME:CEST
END:DAYLIGHT
BEGIN:STANDARD
DTSTART:20261025T010000
TZOFFSETFROM:+0200
TZOFFSETTO:+0100
TZNAME:CET
END:STANDARD
END:VTIMEZONE
BEGIN:VEVENT
UID:10040-events@www.sommelier-paris.org
DTSTART;TZID=Europe/Paris:20180514T110000
DTEND;TZID=Europe/Paris:20180514T180000
DTSTAMP;TZID=Europe/Paris:20180428T130353
SUMMARY:Nebbiolo\, Vins & Terroirs: le meilleur de l’Italie à Paris
URL:https://www.sommelier-paris.org/evenements/nebbiolo-vins-terroirs-le-me
 illeur-de-litalie-a-paris/
LOCATION:202 Rue de Rivoli\, 75001\, Paris\, France
END:VEVENT
END:VCALENDAR